BEGIN:VCALENDAR
VERSION:2.0
PRODID:Events Booking
BEGIN:VEVENT
UID:69e562181012a
SUMMARY:Warsaw Medical Expo
DESCRIPTION:International trade fair of equipment and devices for medical f
 acilities
LOCATION:Aleja Katowicka 62\, Nadarzyn\, Poland
DTSTART:20241126T080000Z
DTEND:20241128T180000Z
DTSTAMP:20240426T155657Z
ORGANIZER:MAILTO:site@mednux.com
GEO:52.107183;20.83593
X-APPLE-STRUCTURED-LOCATION;VALUE=URI;X-ADDRESS=Aleja Katowicka 62\, Nadarz
 yn\, Poland;X-APPLE-RADIUS=72;X-TITLE=PTAK WARSAW EXPO:52.107183;20.83593
END:VEVENT
END:VCALENDAR