BEGIN:VCALENDAR
VERSION:2.0
PRODID:Events Booking
BEGIN:VEVENT
UID:69e562e726fd2
SUMMARY:Warsaw dental medica show
DESCRIPTION:Warsaw dental medica show - international trade fair and congre
 ss for dentistry and aesthetic medicine
LOCATION:Aleja Katowicka 62\, Nadarzyn\, Poland
DTSTART:20240905T080000Z
DTEND:20240907T180000Z
DTSTAMP:20240426T162018Z
ORGANIZER:MAILTO:site@mednux.com
GEO:52.107183;20.83593
X-APPLE-STRUCTURED-LOCATION;VALUE=URI;X-ADDRESS=Aleja Katowicka 62\, Nadarz
 yn\, Poland;X-APPLE-RADIUS=72;X-TITLE=PTAK WARSAW EXPO:52.107183;20.83593
END:VEVENT
END:VCALENDAR