BEGIN:VCALENDAR
VERSION:2.0
PRODID:Events Booking
BEGIN:VEVENT
UID:69e54f0b07e38
SUMMARY:LAB Supply 2024 Dresden
DESCRIPTION:LAB-Supply exhibitions are the place to be for the laboratory i
 ndustry. See the latest product innovations\, get in touch with experts an
 d listen to interesting speeches.
LOCATION:Ostra-Ufer 2\, 01067 Dresden\, Germany
DTSTART:20240918T090000Z
DTEND:20240918T160000Z
DTSTAMP:20240407T145929Z
ORGANIZER:MAILTO:site@mednux.com
GEO:51.058731;13.731351
X-APPLE-STRUCTURED-LOCATION;VALUE=URI;X-ADDRESS=Ostra-Ufer 2\, 01067 Dresde
 n\, Germany;X-APPLE-RADIUS=72;X-TITLE=ICD | International Congress Center 
 Dresden:51.058731;13.731351
END:VEVENT
END:VCALENDAR