BEGIN:VCALENDAR
VERSION:2.0
PRODID:Events Booking
BEGIN:VEVENT
UID:69e5626cad259
SUMMARY:K-Hospital+Health Tech Fair 2024
DESCRIPTION:KHF is Korea’s leading Digital healthcare exhibition &amp\; s
 ummit covering everything related to digital health fields and hospitals.
LOCATION:513 Yeongdong-daero\, Seoul\, 06164\, South Korea
DTSTART:20241002T080000Z
DTEND:20241004T160000Z
DTSTAMP:20240407T144820Z
ORGANIZER:MAILTO:site@mednux.com
GEO:37.511683;127.059151
X-APPLE-STRUCTURED-LOCATION;VALUE=URI;X-ADDRESS=513 Yeongdong-daero\, Seoul
 \, 06164\, South Korea;X-APPLE-RADIUS=72;X-TITLE=COEX Convention & Exhibit
 ion Center:37.511683;127.059151
END:VEVENT
END:VCALENDAR