BEGIN:VCALENDAR
VERSION:2.0
PRODID:Events Booking
BEGIN:VEVENT
UID:69e54f7855eb5
SUMMARY:HIMSS 24 - APAC | Seoul Korea
DESCRIPTION:Creating tomorrow’s health
 Together\, our community is crea
 ting tomorrow's health\, and the HIMSS24 APAC Conference &amp\; Exhibition
  is going to be the best one yet.
LOCATION:513 Yeongdong-daero\, Seoul\, 06164\, South Korea
DTSTART:20241001T080000Z
DTEND:20241004T180000Z
DTSTAMP:20240427T120922Z
ORGANIZER:MAILTO:site@mednux.com
GEO:37.511683;127.059151
X-APPLE-STRUCTURED-LOCATION;VALUE=URI;X-ADDRESS=513 Yeongdong-daero\, Seoul
 \, 06164\, South Korea;X-APPLE-RADIUS=72;X-TITLE=COEX Convention & Exhibit
 ion Center:37.511683;127.059151
END:VEVENT
END:VCALENDAR