BEGIN:VCALENDAR
VERSION:2.0
PRODID:Events Booking
BEGIN:VEVENT
UID:69e54fbc00f64
SUMMARY:BIOMED ISRAEL 2024
DESCRIPTION:Biomed Israel 2024: The 22nd National Life Science &amp\; Techn
 ology Week
LOCATION:12 Kaufmann Street\, Tel Aviv\, Israel
DTSTART:20240521T080000Z
DTEND:20240523T180000Z
DTSTAMP:20240426T165747Z
ORGANIZER:MAILTO:site@mednux.com
GEO:32.06541;34.763819
X-APPLE-STRUCTURED-LOCATION;VALUE=URI;X-ADDRESS=12 Kaufmann Street\, Tel Av
 iv\, Israel;X-APPLE-RADIUS=72;X-TITLE=David Intercontinental Tel Aviv:32.0
 6541;34.763819
END:VEVENT
END:VCALENDAR